BEGIN:VCALENDAR
VERSION:2.0
PRODID:-//GreenFare - ECPv6.15.20//NONSGML v1.0//EN
CALSCALE:GREGORIAN
METHOD:PUBLISH
X-ORIGINAL-URL:https://greenfare.com
X-WR-CALDESC:Events for GreenFare
REFRESH-INTERVAL;VALUE=DURATION:PT1H
X-Robots-Tag:noindex
X-PUBLISHED-TTL:PT1H
BEGIN:VTIMEZONE
TZID:America/New_York
BEGIN:DAYLIGHT
TZOFFSETFROM:-0500
TZOFFSETTO:-0400
TZNAME:EDT
DTSTART:20180311T070000
END:DAYLIGHT
BEGIN:STANDARD
TZOFFSETFROM:-0400
TZOFFSETTO:-0500
TZNAME:EST
DTSTART:20181104T060000
END:STANDARD
BEGIN:DAYLIGHT
TZOFFSETFROM:-0500
TZOFFSETTO:-0400
TZNAME:EDT
DTSTART:20190310T070000
END:DAYLIGHT
BEGIN:STANDARD
TZOFFSETFROM:-0400
TZOFFSETTO:-0500
TZNAME:EST
DTSTART:20191103T060000
END:STANDARD
BEGIN:DAYLIGHT
TZOFFSETFROM:-0500
TZOFFSETTO:-0400
TZNAME:EDT
DTSTART:20200308T070000
END:DAYLIGHT
BEGIN:STANDARD
TZOFFSETFROM:-0400
TZOFFSETTO:-0500
TZNAME:EST
DTSTART:20201101T060000
END:STANDARD
BEGIN:DAYLIGHT
TZOFFSETFROM:-0500
TZOFFSETTO:-0400
TZNAME:EDT
DTSTART:20210314T070000
END:DAYLIGHT
BEGIN:STANDARD
TZOFFSETFROM:-0400
TZOFFSETTO:-0500
TZNAME:EST
DTSTART:20211107T060000
END:STANDARD
END:VTIMEZONE
BEGIN:VEVENT
DTSTART;TZID=America/New_York:20200307T083000
DTEND;TZID=America/New_York:20200307T223000
DTSTAMP:20260420T063257
CREATED:20200203T180005Z
LAST-MODIFIED:20200203T180005Z
UID:7357-1583569800-1583620200@greenfare.com
SUMMARY:Saturday\, 21-Day PCRM Kickstart Program
DESCRIPTION:If you want to lose weight\, increase your energy\, and learn about this life-changing way to eat\, consider signing up for GreenFare’s 21-day organic\, whole-plant-food nutrition program–now more affordable than ever! Remove the obstacles to your success! \nLearn More About the Kickstart Program
URL:https://greenfare.com/event/saturday-21-day-pcrm-kickstart-program-6/
CATEGORIES:21-Day Kickstart,21-Day Kickstart Saturday
ORGANIZER;CN="GreenFare Organic Cafe":MAILTO:info@greenfare.com
END:VEVENT
BEGIN:VEVENT
DTSTART;TZID=America/New_York:20200201T083000
DTEND;TZID=America/New_York:20200201T103000
DTSTAMP:20260420T063257
CREATED:20191105T185807Z
LAST-MODIFIED:20191105T185807Z
UID:6689-1580545800-1580553000@greenfare.com
SUMMARY:Saturday\, 21-Day PCRM Kickstart Program
DESCRIPTION:If you want to lose weight\, increase your energy\, and learn about this life-changing way to eat\, consider signing up for GreenFare’s 21-day organic\, whole-plant-food nutrition program–now more affordable than ever! Remove the obstacles to your success! \nLearn More About the Kickstart Program
URL:https://greenfare.com/event/saturday-21-day-pcrm-kickstart-program-5/
CATEGORIES:21-Day Kickstart,21-Day Kickstart Saturday
ORGANIZER;CN="GreenFare Organic Cafe":MAILTO:info@greenfare.com
END:VEVENT
BEGIN:VEVENT
DTSTART;TZID=America/New_York:20200104T083000
DTEND;TZID=America/New_York:20200104T103000
DTSTAMP:20260420T063257
CREATED:20191105T185114Z
LAST-MODIFIED:20191105T185114Z
UID:6685-1578126600-1578133800@greenfare.com
SUMMARY:Saturday\, 21-Day PCRM Kickstart Program
DESCRIPTION:If you want to lose weight\, increase your energy\, and learn about this life-changing way to eat\, consider signing up for GreenFare’s 21-day organic\, whole-plant-food nutrition program–now more affordable than ever! Remove the obstacles to your success! \nLearn More About the Kickstart Program
URL:https://greenfare.com/event/saturday-21-day-pcrm-kickstart-program-4/
CATEGORIES:21-Day Kickstart,21-Day Kickstart Saturday
ORGANIZER;CN="GreenFare Organic Cafe":MAILTO:info@greenfare.com
END:VEVENT
BEGIN:VEVENT
DTSTART;TZID=America/New_York:20190302T083000
DTEND;TZID=America/New_York:20190302T103000
DTSTAMP:20260420T063257
CREATED:20190206T152800Z
LAST-MODIFIED:20190206T152850Z
UID:5060-1551515400-1551522600@greenfare.com
SUMMARY:Saturday\, 21-Day PCRM Kickstart Program
DESCRIPTION:If you want to lose weight\, increase your energy\, and learn about this life-changing way to eat\, consider signing up for GreenFare’s 21-day organic\, whole-plant-food nutrition program–now more affordable than ever! Remove the obstacles to your success! \nLearn More About the Kickstart Program
URL:https://greenfare.com/event/saturday-21-day-pcrm-kickstart-program-2/
CATEGORIES:21-Day Kickstart,21-Day Kickstart Saturday
ORGANIZER;CN="GreenFare Organic Cafe":MAILTO:info@greenfare.com
END:VEVENT
BEGIN:VEVENT
DTSTART;TZID=America/New_York:20190202T083000
DTEND;TZID=America/New_York:20190202T103000
DTSTAMP:20260420T063257
CREATED:20190110T173804Z
LAST-MODIFIED:20190110T173832Z
UID:4877-1549096200-1549103400@greenfare.com
SUMMARY:Saturday\, 21-Day PCRM Kickstart Program
DESCRIPTION:If you want to lose weight\, increase your energy\, and learn about this life-changing way to eat\, consider signing up for GreenFare’s 21-day organic\, whole-plant-food nutrition program–now more affordable than ever! Remove the obstacles to your success! \nLearn More About the 21 Day Kickstart Program
URL:https://greenfare.com/event/saturday-21-day-pcrm-kickstart-program/
CATEGORIES:21-Day Kickstart,21-Day Kickstart Saturday
ORGANIZER;CN="GreenFare Organic Cafe":MAILTO:info@greenfare.com
END:VEVENT
BEGIN:VEVENT
DTSTART;TZID=America/New_York:20190105T083000
DTEND;TZID=America/New_York:20190105T103000
DTSTAMP:20260420T063257
CREATED:20181119T204403Z
LAST-MODIFIED:20181129T040025Z
UID:4654-1546677000-1546684200@greenfare.com
SUMMARY:Saturday\, 21-Day PCRM Kickstart Program
DESCRIPTION:If you want to lose weight\, increase your energy\, and learn about this life-changing way to eat\, consider signing up for GreenFare’s 21-day organic\, whole-plant-food nutrition program–now more affordable than ever! Remove the obstacles to your success! \nLearn More About the Kickstart Program
URL:https://greenfare.com/event/saturday-21-day-kickstarter-with-pcrm-and-greenfare-4/
CATEGORIES:21-Day Kickstart,21-Day Kickstart Saturday
ORGANIZER;CN="GreenFare Organic Cafe":MAILTO:info@greenfare.com
END:VEVENT
END:VCALENDAR